BEGIN:VCALENDAR
VERSION:2.0
PRODID:-//Keeley Mosley - ECPv6.15.20//NONSGML v1.0//EN
CALSCALE:GREGORIAN
METHOD:PUBLISH
X-WR-CALNAME:Keeley Mosley
X-ORIGINAL-URL:https://keeleyrmosley.com
X-WR-CALDESC:Events for Keeley Mosley
REFRESH-INTERVAL;VALUE=DURATION:PT1H
X-Robots-Tag:noindex
X-PUBLISHED-TTL:PT1H
BEGIN:VTIMEZONE
TZID:America/Halifax
BEGIN:DAYLIGHT
TZOFFSETFROM:-0400
TZOFFSETTO:-0300
TZNAME:ADT
DTSTART:20240310T060000
END:DAYLIGHT
BEGIN:STANDARD
TZOFFSETFROM:-0300
TZOFFSETTO:-0400
TZNAME:AST
DTSTART:20241103T050000
END:STANDARD
BEGIN:DAYLIGHT
TZOFFSETFROM:-0400
TZOFFSETTO:-0300
TZNAME:ADT
DTSTART:20250309T060000
END:DAYLIGHT
BEGIN:STANDARD
TZOFFSETFROM:-0300
TZOFFSETTO:-0400
TZNAME:AST
DTSTART:20251102T050000
END:STANDARD
BEGIN:DAYLIGHT
TZOFFSETFROM:-0400
TZOFFSETTO:-0300
TZNAME:ADT
DTSTART:20260308T060000
END:DAYLIGHT
BEGIN:STANDARD
TZOFFSETFROM:-0300
TZOFFSETTO:-0400
TZNAME:AST
DTSTART:20261101T050000
END:STANDARD
END:VTIMEZONE
BEGIN:VEVENT
DTSTART;TZID=America/Halifax:20250920T110000
DTEND;TZID=America/Halifax:20250920T140000
DTSTAMP:20260425T001917
CREATED:20250922T202918Z
LAST-MODIFIED:20250922T203006Z
UID:10000057-1758366000-1758376800@keeleyrmosley.com
SUMMARY:Ballin' At The Beach Fall League
DESCRIPTION:Saturday\, 09/20/2025\, 11:00 a.m. Bishop Kenny (A) vs Flagler Palm Coast (H)\nSaturday\, 09/20/2025\, 01:00 p.m. Bishop Kenny (A) vs Spruce Creek (H)
URL:https://keeleyrmosley.com/event/ballin-at-the-beach-fall-league/
LOCATION:Seabreeze High School\, 2700 N Oleander Ave\, Daytona Beach\, FL\, 32118\, United States
END:VEVENT
END:VCALENDAR