BEGIN:VCALENDAR
VERSION:2.0
PRODID:-//Keeley Mosley - ECPv6.15.20//NONSGML v1.0//EN
CALSCALE:GREGORIAN
METHOD:PUBLISH
X-WR-CALNAME:Keeley Mosley
X-ORIGINAL-URL:https://keeleyrmosley.com
X-WR-CALDESC:Events for Keeley Mosley
REFRESH-INTERVAL;VALUE=DURATION:PT1H
X-Robots-Tag:noindex
X-PUBLISHED-TTL:PT1H
BEGIN:VTIMEZONE
TZID:America/Halifax
BEGIN:DAYLIGHT
TZOFFSETFROM:-0400
TZOFFSETTO:-0300
TZNAME:ADT
DTSTART:20250309T060000
END:DAYLIGHT
BEGIN:STANDARD
TZOFFSETFROM:-0300
TZOFFSETTO:-0400
TZNAME:AST
DTSTART:20251102T050000
END:STANDARD
BEGIN:DAYLIGHT
TZOFFSETFROM:-0400
TZOFFSETTO:-0300
TZNAME:ADT
DTSTART:20260308T060000
END:DAYLIGHT
BEGIN:STANDARD
TZOFFSETFROM:-0300
TZOFFSETTO:-0400
TZNAME:AST
DTSTART:20261101T050000
END:STANDARD
BEGIN:DAYLIGHT
TZOFFSETFROM:-0400
TZOFFSETTO:-0300
TZNAME:ADT
DTSTART:20270314T060000
END:DAYLIGHT
BEGIN:STANDARD
TZOFFSETFROM:-0300
TZOFFSETTO:-0400
TZNAME:AST
DTSTART:20271107T050000
END:STANDARD
END:VTIMEZONE
BEGIN:VEVENT
DTSTART;TZID=America/Halifax:20260122T190000
DTEND;TZID=America/Halifax:20260122T200000
DTSTAMP:20260424T190606
CREATED:20251116T203034Z
LAST-MODIFIED:20260108T114550Z
UID:10000076-1769108400-1769112000@keeleyrmosley.com
SUMMARY:Bishop Kenny (A) vs Bolles (H)
DESCRIPTION:
URL:https://keeleyrmosley.com/event/bishop-kenny-a-vs-bolles-h/
LOCATION:Bolles\, 7400 San Jose Boulevard\, Jacksonville\, FL\, 32217\, United States
END:VEVENT
END:VCALENDAR