BEGIN:VCALENDAR
VERSION:2.0
PRODID:-//Keeley Mosley - ECPv6.15.20//NONSGML v1.0//EN
CALSCALE:GREGORIAN
METHOD:PUBLISH
X-ORIGINAL-URL:https://keeleyrmosley.com
X-WR-CALDESC:Events for Keeley Mosley
REFRESH-INTERVAL;VALUE=DURATION:PT1H
X-Robots-Tag:noindex
X-PUBLISHED-TTL:PT1H
BEGIN:VTIMEZONE
TZID:America/Halifax
BEGIN:DAYLIGHT
TZOFFSETFROM:-0400
TZOFFSETTO:-0300
TZNAME:ADT
DTSTART:20250309T060000
END:DAYLIGHT
BEGIN:STANDARD
TZOFFSETFROM:-0300
TZOFFSETTO:-0400
TZNAME:AST
DTSTART:20251102T050000
END:STANDARD
BEGIN:DAYLIGHT
TZOFFSETFROM:-0400
TZOFFSETTO:-0300
TZNAME:ADT
DTSTART:20260308T060000
END:DAYLIGHT
BEGIN:STANDARD
TZOFFSETFROM:-0300
TZOFFSETTO:-0400
TZNAME:AST
DTSTART:20261101T050000
END:STANDARD
BEGIN:DAYLIGHT
TZOFFSETFROM:-0400
TZOFFSETTO:-0300
TZNAME:ADT
DTSTART:20270314T060000
END:DAYLIGHT
BEGIN:STANDARD
TZOFFSETFROM:-0300
TZOFFSETTO:-0400
TZNAME:AST
DTSTART:20271107T050000
END:STANDARD
END:VTIMEZONE
BEGIN:VEVENT
DTSTART;TZID=America/Halifax:20260417T080000
DTEND;TZID=America/Halifax:20260419T200000
DTSTAMP:20260424T143922
CREATED:20260306T193957Z
LAST-MODIFIED:20260324T150033Z
UID:10000085-1776412800-1776628800@keeleyrmosley.com
SUMMARY:3SSB Session 1
DESCRIPTION:🗓️🕰️ Friday\, 04/17/2026\, 02:20 p.m. (CDT) Central Florida Elite 3SSB 16U (H) vs ETG 16U (A) @ Court 3 (Legends Event Center)\n🗓️🕰️ Saturday\, 04/18/2026\, 08:05 a.m. (CDT) Central Florida Elite 3SSB 16U (H) vs Minnesota Starts 16U (A) @ Court 1 (Legends Event Center)\n🗓️🕰️ Saturday\, 04/18/2026\, 11:50 a.m. (CDT) Central Florida Elite 3SSB 16U (H) vs Harwood Elite 16U (A) @ Court 6 (Legends Event Center)\n🗓️🕰️ Sunday\, 04/19/2026\, 11:55 a.m. (CDT) Central Florida Elite 3SSB 16U (H) vs MN Metro Stars 16U (A) @ Court 2 (Legends Event Center)
URL:https://keeleyrmosley.com/event/3ssb-session-1/
LOCATION:Legends Event Center\, 2533 Midtown Park Blvd\, Bryan\, TX\, 77801\, United States
END:VEVENT
END:VCALENDAR