BEGIN:VCALENDAR
VERSION:2.0
PRODID:-//Keeley Mosley - ECPv6.15.20//NONSGML v1.0//EN
CALSCALE:GREGORIAN
METHOD:PUBLISH
X-WR-CALNAME:Keeley Mosley
X-ORIGINAL-URL:https://keeleyrmosley.com
X-WR-CALDESC:Events for Keeley Mosley
REFRESH-INTERVAL;VALUE=DURATION:PT1H
X-Robots-Tag:noindex
X-PUBLISHED-TTL:PT1H
BEGIN:VTIMEZONE
TZID:America/Halifax
BEGIN:DAYLIGHT
TZOFFSETFROM:-0400
TZOFFSETTO:-0300
TZNAME:ADT
DTSTART:20230312T060000
END:DAYLIGHT
BEGIN:STANDARD
TZOFFSETFROM:-0300
TZOFFSETTO:-0400
TZNAME:AST
DTSTART:20231105T050000
END:STANDARD
BEGIN:DAYLIGHT
TZOFFSETFROM:-0400
TZOFFSETTO:-0300
TZNAME:ADT
DTSTART:20240310T060000
END:DAYLIGHT
BEGIN:STANDARD
TZOFFSETFROM:-0300
TZOFFSETTO:-0400
TZNAME:AST
DTSTART:20241103T050000
END:STANDARD
BEGIN:DAYLIGHT
TZOFFSETFROM:-0400
TZOFFSETTO:-0300
TZNAME:ADT
DTSTART:20250309T060000
END:DAYLIGHT
BEGIN:STANDARD
TZOFFSETFROM:-0300
TZOFFSETTO:-0400
TZNAME:AST
DTSTART:20251102T050000
END:STANDARD
BEGIN:DAYLIGHT
TZOFFSETFROM:-0400
TZOFFSETTO:-0300
TZNAME:ADT
DTSTART:20260308T060000
END:DAYLIGHT
BEGIN:STANDARD
TZOFFSETFROM:-0300
TZOFFSETTO:-0400
TZNAME:AST
DTSTART:20261101T050000
END:STANDARD
END:VTIMEZONE
BEGIN:VEVENT
DTSTART;TZID=America/Halifax:20251129T150000
DTEND;TZID=America/Halifax:20251129T160000
DTSTAMP:20260424T205749
CREATED:20251107T153904Z
LAST-MODIFIED:20251130T134017Z
UID:10000062-1764428400-1764432000@keeleyrmosley.com
SUMMARY:Bishop Kenny(H) vs Columbia (A)
DESCRIPTION:
URL:https://keeleyrmosley.com/event/bishop-kennyh-vs-columbia-a/
LOCATION:Bishop Kenny High School\, 1055 Kingman Ave.\, Jacksonville\, FL\, 32207\, United States
END:VEVENT
BEGIN:VEVENT
DTSTART;TZID=America/Halifax:20251124T080000
DTEND;TZID=America/Halifax:20251126T200000
DTSTAMP:20260424T205749
CREATED:20251107T160202Z
LAST-MODIFIED:20251211T145805Z
UID:10000065-1763971200-1764187200@keeleyrmosley.com
SUMMARY:Insider Exposure Thanksgiving Classic
DESCRIPTION:Monday\, 11/24/2025\, 08:45 p.m. Bishop Kenny (H) vs Cardinal Mooney (A)\nWednesday\, 11/26/2025\, 01:45 p.m. Bishop Kenny (H) vs Dillard (A)
URL:https://keeleyrmosley.com/event/insider-exposure-thanksgiving-classic/
LOCATION:San Jose Prep\, 4072 Sunbeam Road\, Jacksonville\, FL\, 32257\, United States
END:VEVENT
BEGIN:VEVENT
DTSTART;TZID=America/Halifax:20251121T173000
DTEND;TZID=America/Halifax:20251121T183000
DTSTAMP:20260424T205749
CREATED:20251101T192307Z
LAST-MODIFIED:20251119T200810Z
UID:10000061-1763746200-1763749800@keeleyrmosley.com
SUMMARY:Bishop Kenny (H) vs Godby (A)
DESCRIPTION:
URL:https://keeleyrmosley.com/event/bishop-kenny-h-vs-godby-a/
LOCATION:Bishop Kenny High School\, 1055 Kingman Ave.\, Jacksonville\, FL\, 32207\, United States
END:VEVENT
BEGIN:VEVENT
DTSTART;TZID=America/Halifax:20251118T183000
DTEND;TZID=America/Halifax:20251118T193000
DTSTAMP:20260424T205749
CREATED:20251101T191155Z
LAST-MODIFIED:20251107T153314Z
UID:10000060-1763490600-1763494200@keeleyrmosley.com
SUMMARY:Bishop Kenny (A) vs The First Academy (H)
DESCRIPTION:
URL:https://keeleyrmosley.com/event/bishop-kenny-a-vs-masters-academy-h/
LOCATION:The First Academy\, 2667 Bruton Blvd\, Orlando\, FL\, 32805\, United States
END:VEVENT
BEGIN:VEVENT
DTSTART;TZID=America/Halifax:20251112T180000
DTEND;TZID=America/Halifax:20251112T190000
DTSTAMP:20260424T205749
CREATED:20251101T185550Z
LAST-MODIFIED:20251113T190655Z
UID:10000059-1762970400-1762974000@keeleyrmosley.com
SUMMARY:Bishop Kenny (H) vs Spruce Creek (A)
DESCRIPTION:Preseason
URL:https://keeleyrmosley.com/event/bishop-kenny-a-vs-spruce-creek-h/
LOCATION:Mainland High School\, 1255 W Intl Speedway Blvd.\, Daytona Beach\, FL\, 32114\, United States
END:VEVENT
BEGIN:VEVENT
DTSTART;TZID=America/Halifax:20251110T190000
DTEND;TZID=America/Halifax:20251110T200000
DTSTAMP:20260424T205749
CREATED:20250828T183854Z
LAST-MODIFIED:20251101T185718Z
UID:10000056-1762801200-1762804800@keeleyrmosley.com
SUMMARY:Bishop Kenny (A) vs Mainland (H)
DESCRIPTION:Preseason
URL:https://keeleyrmosley.com/event/bishop-kenny-a-vs-mainland-h/
LOCATION:Mainland High School\, 1255 W Intl Speedway Blvd.\, Daytona Beach\, FL\, 32114\, United States
END:VEVENT
BEGIN:VEVENT
DTSTART;TZID=America/Halifax:20250927T090000
DTEND;TZID=America/Halifax:20250927T100000
DTSTAMP:20260424T205749
CREATED:20250926T202657Z
LAST-MODIFIED:20250926T203719Z
UID:10000058-1758963600-1758967200@keeleyrmosley.com
SUMMARY:Bishop Kenny vs Tocoi Creek
DESCRIPTION:
URL:https://keeleyrmosley.com/event/bishop-kenny-vs-tocoi-creek/
LOCATION:Providence School\, 2701 Hodges Blvd\, Jacksonville\, FL\, 32224\, United States
END:VEVENT
BEGIN:VEVENT
DTSTART;TZID=America/Halifax:20250920T110000
DTEND;TZID=America/Halifax:20250920T140000
DTSTAMP:20260424T205749
CREATED:20250922T202918Z
LAST-MODIFIED:20250922T203006Z
UID:10000057-1758366000-1758376800@keeleyrmosley.com
SUMMARY:Ballin' At The Beach Fall League
DESCRIPTION:Saturday\, 09/20/2025\, 11:00 a.m. Bishop Kenny (A) vs Flagler Palm Coast (H)\nSaturday\, 09/20/2025\, 01:00 p.m. Bishop Kenny (A) vs Spruce Creek (H)
URL:https://keeleyrmosley.com/event/ballin-at-the-beach-fall-league/
LOCATION:Seabreeze High School\, 2700 N Oleander Ave\, Daytona Beach\, FL\, 32118\, United States
END:VEVENT
BEGIN:VEVENT
DTSTART;TZID=America/Halifax:20250718T080000
DTEND;TZID=America/Halifax:20250721T190000
DTSTAMP:20260424T205749
CREATED:20250716T215450Z
LAST-MODIFIED:20250723T185901Z
UID:10000055-1752825600-1753124400@keeleyrmosley.com
SUMMARY:2025 Nike Tournament of Champions
DESCRIPTION:Friday\, 07/18/2025\, 11:30 a.m. Miami Suns Jacksonville 15U EYCL (A) vs Inspired Athletics ND 15U EYCL (H) @ Court 20\nFriday\, 07/18/2025\, 05:30 p.m. Miami Suns Jacksonville 15U EYCL (H) vs Cy y Fair 15U EYCL (A) @ Court 24\nSaturday\, 07/19/2025\, 08:30 a.m. Miami Suns Jacksonville 15U EYCL (H) vs Palmetto 76ers / A’ja Wilson Elite 15U EYCL (A) @ Court 21\nSaturday\, 07/19/2025\, 02:30 p.m. Miami Suns Jacksonville 15U EYCL vs Exodus EUR 15U EYCL @ Court 24\nSunday\, 07/20/2025\, 07:30 p.m. Miami Suns Jacksonville 15U EYCL vs Sports Academy Swish 15U EYCL @ Court 11\nMonday\, 07/21/2025\, 10:30 a.m. Miami Suns Jacksonville 15U EYCL vs VK Basketball 15U EYCL @ Court 27
URL:https://keeleyrmosley.com/event/2025-nike-tournament-of-champions/
LOCATION:McCormick Place Convention Center\, 2301 S. Dr. Martin Luther King Jr. Drive\, Chicago\, IL\, 60616\, United States
END:VEVENT
BEGIN:VEVENT
DTSTART;TZID=America/Halifax:20250711T080000
DTEND;TZID=America/Halifax:20250714T170000
DTSTAMP:20260424T205749
CREATED:20250703T024542Z
LAST-MODIFIED:20250725T163052Z
UID:10000054-1752220800-1752512400@keeleyrmosley.com
SUMMARY:2025 Run 4 Roses
DESCRIPTION:Friday\, 07/11/2025\, 03:30 p.m. Miami Suns Jacksonville 15U EYCL (A) vs SLAM 15U EYCL (H) @ Court 42\nSaturday\, 07/12/2025\, 12:30 p.m. Miami Suns Jacksonville 15U EYCL (H) vs Team Pennsylvania 15U EYCL (A) @ Court 31\nSaturday\, 07/12/2025\, 08:00 p.m. Miami Suns Jacksonville 15U EYCL (H) vs OMG Academy 15U EYCL (A) @ Court 32\nSunday\, 07/13/2025\, 11:00 a.m. Miami Suns Jacksonville 15U EYCL (H) vs TN Blazers 15U EYCL (A) @ Court 53\nSunday\, 07/13/2025\, 03:30 p.m. Miami Suns Jacksonville 15U EYCL (H) vs Jersey Gemz 15U EYCL (A) @ Court 51 (Cancelled)\nMonday\, 07/14/2025 (Cancelled)
URL:https://keeleyrmosley.com/event/2025-run-4-roses/
LOCATION:Kentucky Exposition Center\, 937 Phillips Ln\, Louisville\, KY\, 40209\, United States
END:VEVENT
BEGIN:VEVENT
DTSTART;TZID=America/Halifax:20250627T080000
DTEND;TZID=America/Halifax:20250628T170000
DTSTAMP:20260424T205749
CREATED:20250625T141926Z
LAST-MODIFIED:20250625T170632Z
UID:10000053-1751011200-1751130000@keeleyrmosley.com
SUMMARY:Florida State University Team Camp 2025
DESCRIPTION:Friday\, 06/27/2025\, 06:00 p.m. Bishop Kenny vs Sumner @ Court BTC 2\nSaturday\, 06/28/2025\, 10:30 a.m. Bishop Kenny vs Tampa Ignite @ Court Tully 3\nSaturday\, 06/28/2025\, 03:15 p.m. Bishop Kenny vs Lady Stangs @ Court Tully 1\nSaturday\, 06/28/2025\, 06:15 p.m. Bishop Kenny vs Carrollton @ Court Tully 3
URL:https://keeleyrmosley.com/event/florida-state-university-team-camp-2025/
LOCATION:Donald L. Tucker Civic Center\, 505 W Pensacola St\, Tallahassee\, FL\, 32301\, United States
ORGANIZER;CN="Florida State University Women's Basketball":MAILTO:ad@athletics.fsu.edu
END:VEVENT
BEGIN:VEVENT
DTSTART;TZID=America/Halifax:20250624T191500
DTEND;TZID=America/Halifax:20250624T201500
DTSTAMP:20260424T205749
CREATED:20250624T153327Z
LAST-MODIFIED:20250625T143927Z
UID:10000052-1750792500-1750796100@keeleyrmosley.com
SUMMARY:Bishop Kenny (A) vs Fleming Island (H)
DESCRIPTION:
URL:https://keeleyrmosley.com/event/bishop-kenny-vs-fleming-island/
LOCATION:Beachside High School\, 200 Great Barracuda Way\, Saint Johns\, FL\, 32259\, United States
END:VEVENT
BEGIN:VEVENT
DTSTART;TZID=America/Halifax:20250620T080000
DTEND;TZID=America/Halifax:20250621T170000
DTSTAMP:20260424T205749
CREATED:20250621T004945Z
LAST-MODIFIED:20250621T220423Z
UID:10000051-1750406400-1750525200@keeleyrmosley.com
SUMMARY:University of North Florida Team Camp 2025
DESCRIPTION:Friday\, 06/20/2025\, 12:00 p.m. Bishop Kenny (H) vs Somerset Canyons (A) @ Court 2\nSaturday\, 06/21/2025\, 11:00 a.m. Bishop Kenny (A) vs Desoto County (H) @ Court 2\nSaturday\, 06/21/2025\, 02:00 p.m. Bishop Kenny (H) vs Creekside (A) @ Court 2
URL:https://keeleyrmosley.com/event/university-of-north-florida-team-camp-2025/
LOCATION:University of North Florida Arena\, 1 UNF Drive\, Jackonville\, FL\, 32224\, United States
END:VEVENT
BEGIN:VEVENT
DTSTART;TZID=America/Halifax:20250612T080000
DTEND;TZID=America/Halifax:20250614T170000
DTSTAMP:20260424T205749
CREATED:20250618T203314Z
LAST-MODIFIED:20250618T204431Z
UID:10000050-1749715200-1749920400@keeleyrmosley.com
SUMMARY:FABC Girls Showcase 2025
DESCRIPTION:Thursday\, 06/12/2025\, 03:30 p.m. Bishop Kenny vs Wildwood @ Court 8\nFriday\, 06/13/2025\, 12:00 p.m. Bishop Kenny vs Rickards @ Court 3\nFriday\, 06/13/2025\, 05:50 p.m. Bishop Kenny vs Winter Haven @ Court 8\nSaturday\, 06/14/2025\, 09:40 a.m. Bishop Kenny vs Grandview Preparatory @ Court 10
URL:https://keeleyrmosley.com/event/fabc-girls-showcase-2025/
LOCATION:Alachua County Sports & Event Center\, 4870 Celebration Pointe Ave\, Gainesville\, FL\, 32608\, United States
ORGANIZER;CN="The Florida Association of Basketball Coaches":MAILTO:contact@fabchoops.com
END:VEVENT
BEGIN:VEVENT
DTSTART;TZID=America/Halifax:20250516T080000
DTEND;TZID=America/Halifax:20250518T170000
DTSTAMP:20260424T205749
CREATED:20250501T195936Z
LAST-MODIFIED:20250515T204310Z
UID:10000049-1747382400-1747587600@keeleyrmosley.com
SUMMARY:2025 Girls Nike EYCL Tournament Of Champions
DESCRIPTION:Friday\, 05/16/2025\, 09:30 a.m. Miami Suns 15 EYCL (H) vs Kia Nurse Elite Pacific EYCL (A) @ Court 3 (EMC Expo Center)\nFriday\, 05/16/2025\, 04:10 p.m. Miami Suns 15 EYCL (H) vs Winners United 15 EYCL (A) @ Court 3 (EMC Expo Center)\nSaturday\, 05/17/2025\, 08:10 a.m. Miami Suns 15 EYCL (H) vs Riverside Hawks EYCL (A) @ Court 12 (IYAF Sports Complex)\nSaturday\, 05/17/2025\, 12:10 p.m. Miami Suns 15 EYCL (H) vs Now Elite 15 EYCL (A) @ Court 7 (IYAF Sports Complex)\nSunday\, 05/18/2025\, 08:10 a.m. Miami Suns 15 EYCL (A) vs Gym Rats 15 EYCL (H) @ Court 1 (EMC Expo Center)
URL:https://keeleyrmosley.com/event/2025-girls-nike-eycl-tournament-of-champions/
LOCATION:EMC Expo Center\, 730 3rd Street\, Des Moines\, IA\, 50309\, United States
ORGANIZER;CN="Exposure Basketball":MAILTO:SUTSReport@gmail.com
END:VEVENT
BEGIN:VEVENT
DTSTART;TZID=America/Halifax:20250425T080000
DTEND;TZID=America/Halifax:20250427T170000
DTSTAMP:20260424T205749
CREATED:20250412T162824Z
LAST-MODIFIED:20250424T225308Z
UID:10000048-1745568000-1745773200@keeleyrmosley.com
SUMMARY:2025 Boo Williams Girls Nike EYCL Tournament Of Champions
DESCRIPTION:Friday\, 04/25/2025\, 08:10 a.m. Miami Suns 15 EYCL (A) vs Legacy 15 EYCL (H) @ Court 11\nFriday\, 04/25/2025\, 12:30 p.m. Miami Suns 15 EYCL (H) vs Team Melo 15 EYCL (A) @ Court 13\nSaturday\, 04/26/2025\, 08:10 a.m. Miami Suns 15 EYCL (H) vs MS All-N 15 EYCL (A) @ Court 16\nSaturday\, 04/26/2025\, 12:30 p.m. Miami Suns 15 EYCL (H) vs Exodus EUR 15 EYCL (A) @ Court 15\nSunday\, 04/27/2025\, 08:10 a.m. Miami Suns 15 EYCL (H) vs Palmetto 76ers / A’Ja Wilson Elite 15 EYCL (A) @ Court 16
URL:https://keeleyrmosley.com/event/2024-boo-williams-girls-nike-eycl-and-nike-invitational-tournament/
LOCATION:Hampton Roads Convention Center (CTR)\, 1610 Coliseum Dr.\, Hampton\, VA\, 23666\, United States
ORGANIZER;CN="Exposure Basketball":MAILTO:SUTSReport@gmail.com
END:VEVENT
BEGIN:VEVENT
DTSTART;TZID=America/Halifax:20250404T000000
DTEND;TZID=America/Halifax:20250406T233000
DTSTAMP:20260424T205749
CREATED:20250402T200627Z
LAST-MODIFIED:20250406T143729Z
UID:10000047-1743724800-1743982200@keeleyrmosley.com
SUMMARY:2025 Sunshine State Showdown
DESCRIPTION:Saturday\, 04/05/2025\, 09:10 a.m. Miami Suns Jacksonville 15U EYCL (A) vs Florida Diamonds 15U (H) @ Court 8\nSaturday\, 04/05/2025\, 05:20 p.m. Miami Suns Jacksonville 15U EYCL (A) vs MBJ Elite 15U 3SSB (H) @ Court 6\nSunday\, 04/06/2025\, 08:00 a.m. Miami Suns Jacksonville 15U EYCL (H) vs G Nation Suns Blue E40 15U (A) @ Court 3
URL:https://keeleyrmosley.com/event/2025-sunshine-state-showdown/
LOCATION:Wiregrass Ranch Sports Campus\, 3021 Sports Coast Way\, Wesley Chapel\, FL\, 33543\, United States
ORGANIZER;CN="Exposure Basketball":MAILTO:SUTSReport@gmail.com
END:VEVENT
BEGIN:VEVENT
DTSTART;TZID=America/Halifax:20250206T180000
DTEND;TZID=America/Halifax:20250206T200000
DTSTAMP:20260424T205749
CREATED:20250205T140430Z
LAST-MODIFIED:20250205T140430Z
UID:10000046-1738864800-1738872000@keeleyrmosley.com
SUMMARY:Mandarin High vs Nease (A)
DESCRIPTION:District Tournament – Round 3
URL:https://keeleyrmosley.com/event/mandarin-high-vs-nease-a-2/
LOCATION:Nease High School\, 10550 Ray Rd\, Ponte Vedra Beach\, FL\, 32081\, United States
END:VEVENT
BEGIN:VEVENT
DTSTART;TZID=America/Halifax:20250204T180000
DTEND;TZID=America/Halifax:20250204T200000
DTSTAMP:20260424T205749
CREATED:20250201T161513Z
LAST-MODIFIED:20250205T140340Z
UID:10000045-1738692000-1738699200@keeleyrmosley.com
SUMMARY:Mandarin High vs Oakleaf (A)
DESCRIPTION:District Tournament – Round 2
URL:https://keeleyrmosley.com/event/mandarin-high-vs-oakleaf/
LOCATION:Nease High School\, 10550 Ray Rd\, Ponte Vedra Beach\, FL\, 32081\, United States
END:VEVENT
BEGIN:VEVENT
DTSTART;TZID=America/Halifax:20250203T180000
DTEND;TZID=America/Halifax:20250203T200000
DTSTAMP:20260424T205749
CREATED:20250131T145502Z
LAST-MODIFIED:20250131T145502Z
UID:10000044-1738605600-1738612800@keeleyrmosley.com
SUMMARY:Mandarin High vs First Coast (H)
DESCRIPTION:District Tournament – Round 1
URL:https://keeleyrmosley.com/event/mandarin-high-vs-first-coast-h/
LOCATION:Mandarin High School\, 4831 Greenland Rd\, Jacksonville\, FL\, 32258\, United States
END:VEVENT
BEGIN:VEVENT
DTSTART;TZID=America/Halifax:20250130T183000
DTEND;TZID=America/Halifax:20250130T203000
DTSTAMP:20260424T205749
CREATED:20241005T233539Z
LAST-MODIFIED:20250124T161320Z
UID:10000022-1738261800-1738269000@keeleyrmosley.com
SUMMARY:Mandarin High vs Beachside (H)
DESCRIPTION:
URL:https://keeleyrmosley.com/event/mandarin-high-vs-beachside-h/
LOCATION:Mandarin High School\, 4831 Greenland Rd\, Jacksonville\, FL\, 32258\, United States
END:VEVENT
BEGIN:VEVENT
DTSTART;TZID=America/Halifax:20250129T190000
DTEND;TZID=America/Halifax:20250129T210000
DTSTAMP:20260424T205749
CREATED:20241015T212632Z
LAST-MODIFIED:20250113T162335Z
UID:10000036-1738177200-1738184400@keeleyrmosley.com
SUMMARY:Mandarin High vs Bolles (A)
DESCRIPTION:
URL:https://keeleyrmosley.com/event/mandarin-high-vs-bolles-a/
LOCATION:The Bolles School\, 7400 San Jose Blvd\, Jacksonville\, FL\, 32217\, United States
END:VEVENT
BEGIN:VEVENT
DTSTART;TZID=America/Halifax:20250123T180000
DTEND;TZID=America/Halifax:20250123T200000
DTSTAMP:20260424T205749
CREATED:20241005T233420Z
LAST-MODIFIED:20250117T145115Z
UID:10000021-1737655200-1737662400@keeleyrmosley.com
SUMMARY:Mandarin High vs Wolfson (H)
DESCRIPTION:Senior Night
URL:https://keeleyrmosley.com/event/mandarin-high-vs-wolfson-h/
LOCATION:Mandarin High School\, 4831 Greenland Rd\, Jacksonville\, FL\, 32258\, United States
END:VEVENT
BEGIN:VEVENT
DTSTART;TZID=America/Halifax:20250121T180000
DTEND;TZID=America/Halifax:20250121T200000
DTSTAMP:20260424T205749
CREATED:20241005T233245Z
LAST-MODIFIED:20250117T165717Z
UID:10000020-1737482400-1737489600@keeleyrmosley.com
SUMMARY:Mandarin High vs Sandalwood (A)
DESCRIPTION:
URL:https://keeleyrmosley.com/event/mandarin-high-vs-sandalwood-h/
LOCATION:Sandalwood High School\, 2750 John Promenade Blvd\, Jacksonville\, FL\, 32246\, United States
END:VEVENT
BEGIN:VEVENT
DTSTART;TZID=America/Halifax:20250113T080000
DTEND;TZID=America/Halifax:20250117T200000
DTSTAMP:20260424T205749
CREATED:20250113T154317Z
LAST-MODIFIED:20250115T221734Z
UID:10000042-1736755200-1737144000@keeleyrmosley.com
SUMMARY:Girl's Basketball Gateway Conference Tournament 2024-2025
DESCRIPTION:Monday\, 01/13/2025\, 05:30 p.m. Mandarin High (H) vs Riverside @ Fletcher High School\nTuesday\, 01/14/2025\, 05:30 p.m. Mandarin High (A) vs Ribault @ Atlantic Coast High School
URL:https://keeleyrmosley.com/event/girls-basketball-gateway-conference-tournament-2024-2025/
LOCATION:Fletcher High School\, 700 Seagate Ave\, Neptune Beach\, FL\, 32266\, United States
END:VEVENT
BEGIN:VEVENT
DTSTART;TZID=America/Halifax:20250110T180000
DTEND;TZID=America/Halifax:20250110T200000
DTSTAMP:20260424T205749
CREATED:20241005T232811Z
LAST-MODIFIED:20250106T205909Z
UID:10000017-1736532000-1736539200@keeleyrmosley.com
SUMMARY:Mandarin High vs Ed White (H)
DESCRIPTION:
URL:https://keeleyrmosley.com/event/mandarin-high-vs-ed-white/
LOCATION:Mandarin High School\, 4831 Greenland Rd\, Jacksonville\, FL\, 32258\, United States
END:VEVENT
BEGIN:VEVENT
DTSTART;TZID=America/Halifax:20250106T190000
DTEND;TZID=America/Halifax:20250106T210000
DTSTAMP:20260424T205749
CREATED:20241103T220057Z
LAST-MODIFIED:20250102T204744Z
UID:10000040-1736190000-1736197200@keeleyrmosley.com
SUMMARY:Mandarin High vs Paxon (H)
DESCRIPTION:
URL:https://keeleyrmosley.com/event/mandarin-high-vs-paxon-a/
LOCATION:Mandarin High School\, 4831 Greenland Rd\, Jacksonville\, FL\, 32258\, United States
END:VEVENT
BEGIN:VEVENT
DTSTART;TZID=America/Halifax:20241220T193000
DTEND;TZID=America/Halifax:20241220T213000
DTSTAMP:20260424T205749
CREATED:20241015T205623Z
LAST-MODIFIED:20241216T014749Z
UID:10000030-1734723000-1734730200@keeleyrmosley.com
SUMMARY:Mandarin High vs Nease (A)
DESCRIPTION:
URL:https://keeleyrmosley.com/event/mandarin-high-vs-nease-a/
LOCATION:Nease High School\, 10550 Ray Rd\, Ponte Vedra Beach\, FL\, 32081\, United States
END:VEVENT
BEGIN:VEVENT
DTSTART;TZID=America/Halifax:20241217T193000
DTEND;TZID=America/Halifax:20241217T213000
DTSTAMP:20260424T205749
CREATED:20241003T213719Z
LAST-MODIFIED:20241216T015426Z
UID:10000015-1734463800-1734471000@keeleyrmosley.com
SUMMARY:Mandarin High vs Bartram (A)
DESCRIPTION:
URL:https://keeleyrmosley.com/event/mandarin-high-vs-bartram-h/
LOCATION:Bartram Trail High School\, 7399 Longleaf Pine Pkwy\, Saint Johns\, FL\, 32259\, United States
END:VEVENT
BEGIN:VEVENT
DTSTART;TZID=America/Halifax:20241216T180000
DTEND;TZID=America/Halifax:20241216T200000
DTSTAMP:20260424T205749
CREATED:20241103T213658Z
LAST-MODIFIED:20241216T151610Z
UID:10000039-1734372000-1734379200@keeleyrmosley.com
SUMMARY:Mandarin High vs Englewood (A)
DESCRIPTION:
URL:https://keeleyrmosley.com/event/mandarin-high-vs-englewood-a/
LOCATION:Englewood High School\, 4412 Barnes Rd S\, Jacksonville\, FL\, 32207\, United States
END:VEVENT
END:VCALENDAR