BEGIN:VCALENDAR
VERSION:2.0
PRODID:-//Keeley Mosley - ECPv6.15.20//NONSGML v1.0//EN
CALSCALE:GREGORIAN
METHOD:PUBLISH
X-WR-CALNAME:Keeley Mosley
X-ORIGINAL-URL:https://keeleyrmosley.com
X-WR-CALDESC:Events for Keeley Mosley
REFRESH-INTERVAL;VALUE=DURATION:PT1H
X-Robots-Tag:noindex
X-PUBLISHED-TTL:PT1H
BEGIN:VTIMEZONE
TZID:America/Halifax
BEGIN:DAYLIGHT
TZOFFSETFROM:-0400
TZOFFSETTO:-0300
TZNAME:ADT
DTSTART:20230312T060000
END:DAYLIGHT
BEGIN:STANDARD
TZOFFSETFROM:-0300
TZOFFSETTO:-0400
TZNAME:AST
DTSTART:20231105T050000
END:STANDARD
BEGIN:DAYLIGHT
TZOFFSETFROM:-0400
TZOFFSETTO:-0300
TZNAME:ADT
DTSTART:20240310T060000
END:DAYLIGHT
BEGIN:STANDARD
TZOFFSETFROM:-0300
TZOFFSETTO:-0400
TZNAME:AST
DTSTART:20241103T050000
END:STANDARD
BEGIN:DAYLIGHT
TZOFFSETFROM:-0400
TZOFFSETTO:-0300
TZNAME:ADT
DTSTART:20250309T060000
END:DAYLIGHT
BEGIN:STANDARD
TZOFFSETFROM:-0300
TZOFFSETTO:-0400
TZNAME:AST
DTSTART:20251102T050000
END:STANDARD
BEGIN:DAYLIGHT
TZOFFSETFROM:-0400
TZOFFSETTO:-0300
TZNAME:ADT
DTSTART:20260308T060000
END:DAYLIGHT
BEGIN:STANDARD
TZOFFSETFROM:-0300
TZOFFSETTO:-0400
TZNAME:AST
DTSTART:20261101T050000
END:STANDARD
END:VTIMEZONE
BEGIN:VEVENT
DTSTART;TZID=America/Halifax:20250204T180000
DTEND;TZID=America/Halifax:20250204T200000
DTSTAMP:20260424T225735
CREATED:20250201T161513Z
LAST-MODIFIED:20250205T140340Z
UID:10000045-1738692000-1738699200@keeleyrmosley.com
SUMMARY:Mandarin High vs Oakleaf (A)
DESCRIPTION:District Tournament – Round 2
URL:https://keeleyrmosley.com/event/mandarin-high-vs-oakleaf/
LOCATION:Nease High School\, 10550 Ray Rd\, Ponte Vedra Beach\, FL\, 32081\, United States
END:VEVENT
BEGIN:VEVENT
DTSTART;TZID=America/Halifax:20250203T180000
DTEND;TZID=America/Halifax:20250203T200000
DTSTAMP:20260424T225735
CREATED:20250131T145502Z
LAST-MODIFIED:20250131T145502Z
UID:10000044-1738605600-1738612800@keeleyrmosley.com
SUMMARY:Mandarin High vs First Coast (H)
DESCRIPTION:District Tournament – Round 1
URL:https://keeleyrmosley.com/event/mandarin-high-vs-first-coast-h/
LOCATION:Mandarin High School\, 4831 Greenland Rd\, Jacksonville\, FL\, 32258\, United States
END:VEVENT
BEGIN:VEVENT
DTSTART;TZID=America/Halifax:20250130T183000
DTEND;TZID=America/Halifax:20250130T203000
DTSTAMP:20260424T225735
CREATED:20241005T233539Z
LAST-MODIFIED:20250124T161320Z
UID:10000022-1738261800-1738269000@keeleyrmosley.com
SUMMARY:Mandarin High vs Beachside (H)
DESCRIPTION:
URL:https://keeleyrmosley.com/event/mandarin-high-vs-beachside-h/
LOCATION:Mandarin High School\, 4831 Greenland Rd\, Jacksonville\, FL\, 32258\, United States
END:VEVENT
BEGIN:VEVENT
DTSTART;TZID=America/Halifax:20250129T190000
DTEND;TZID=America/Halifax:20250129T210000
DTSTAMP:20260424T225735
CREATED:20241015T212632Z
LAST-MODIFIED:20250113T162335Z
UID:10000036-1738177200-1738184400@keeleyrmosley.com
SUMMARY:Mandarin High vs Bolles (A)
DESCRIPTION:
URL:https://keeleyrmosley.com/event/mandarin-high-vs-bolles-a/
LOCATION:The Bolles School\, 7400 San Jose Blvd\, Jacksonville\, FL\, 32217\, United States
END:VEVENT
BEGIN:VEVENT
DTSTART;TZID=America/Halifax:20250123T180000
DTEND;TZID=America/Halifax:20250123T200000
DTSTAMP:20260424T225735
CREATED:20241005T233420Z
LAST-MODIFIED:20250117T145115Z
UID:10000021-1737655200-1737662400@keeleyrmosley.com
SUMMARY:Mandarin High vs Wolfson (H)
DESCRIPTION:Senior Night
URL:https://keeleyrmosley.com/event/mandarin-high-vs-wolfson-h/
LOCATION:Mandarin High School\, 4831 Greenland Rd\, Jacksonville\, FL\, 32258\, United States
END:VEVENT
BEGIN:VEVENT
DTSTART;TZID=America/Halifax:20250121T180000
DTEND;TZID=America/Halifax:20250121T200000
DTSTAMP:20260424T225735
CREATED:20241005T233245Z
LAST-MODIFIED:20250117T165717Z
UID:10000020-1737482400-1737489600@keeleyrmosley.com
SUMMARY:Mandarin High vs Sandalwood (A)
DESCRIPTION:
URL:https://keeleyrmosley.com/event/mandarin-high-vs-sandalwood-h/
LOCATION:Sandalwood High School\, 2750 John Promenade Blvd\, Jacksonville\, FL\, 32246\, United States
END:VEVENT
BEGIN:VEVENT
DTSTART;TZID=America/Halifax:20250113T080000
DTEND;TZID=America/Halifax:20250117T200000
DTSTAMP:20260424T225735
CREATED:20250113T154317Z
LAST-MODIFIED:20250115T221734Z
UID:10000042-1736755200-1737144000@keeleyrmosley.com
SUMMARY:Girl's Basketball Gateway Conference Tournament 2024-2025
DESCRIPTION:Monday\, 01/13/2025\, 05:30 p.m. Mandarin High (H) vs Riverside @ Fletcher High School\nTuesday\, 01/14/2025\, 05:30 p.m. Mandarin High (A) vs Ribault @ Atlantic Coast High School
URL:https://keeleyrmosley.com/event/girls-basketball-gateway-conference-tournament-2024-2025/
LOCATION:Fletcher High School\, 700 Seagate Ave\, Neptune Beach\, FL\, 32266\, United States
END:VEVENT
BEGIN:VEVENT
DTSTART;TZID=America/Halifax:20250110T180000
DTEND;TZID=America/Halifax:20250110T200000
DTSTAMP:20260424T225735
CREATED:20241005T232811Z
LAST-MODIFIED:20250106T205909Z
UID:10000017-1736532000-1736539200@keeleyrmosley.com
SUMMARY:Mandarin High vs Ed White (H)
DESCRIPTION:
URL:https://keeleyrmosley.com/event/mandarin-high-vs-ed-white/
LOCATION:Mandarin High School\, 4831 Greenland Rd\, Jacksonville\, FL\, 32258\, United States
END:VEVENT
BEGIN:VEVENT
DTSTART;TZID=America/Halifax:20250106T190000
DTEND;TZID=America/Halifax:20250106T210000
DTSTAMP:20260424T225735
CREATED:20241103T220057Z
LAST-MODIFIED:20250102T204744Z
UID:10000040-1736190000-1736197200@keeleyrmosley.com
SUMMARY:Mandarin High vs Paxon (H)
DESCRIPTION:
URL:https://keeleyrmosley.com/event/mandarin-high-vs-paxon-a/
LOCATION:Mandarin High School\, 4831 Greenland Rd\, Jacksonville\, FL\, 32258\, United States
END:VEVENT
BEGIN:VEVENT
DTSTART;TZID=America/Halifax:20241220T193000
DTEND;TZID=America/Halifax:20241220T213000
DTSTAMP:20260424T225735
CREATED:20241015T205623Z
LAST-MODIFIED:20241216T014749Z
UID:10000030-1734723000-1734730200@keeleyrmosley.com
SUMMARY:Mandarin High vs Nease (A)
DESCRIPTION:
URL:https://keeleyrmosley.com/event/mandarin-high-vs-nease-a/
LOCATION:Nease High School\, 10550 Ray Rd\, Ponte Vedra Beach\, FL\, 32081\, United States
END:VEVENT
BEGIN:VEVENT
DTSTART;TZID=America/Halifax:20241217T193000
DTEND;TZID=America/Halifax:20241217T213000
DTSTAMP:20260424T225735
CREATED:20241003T213719Z
LAST-MODIFIED:20241216T015426Z
UID:10000015-1734463800-1734471000@keeleyrmosley.com
SUMMARY:Mandarin High vs Bartram (A)
DESCRIPTION:
URL:https://keeleyrmosley.com/event/mandarin-high-vs-bartram-h/
LOCATION:Bartram Trail High School\, 7399 Longleaf Pine Pkwy\, Saint Johns\, FL\, 32259\, United States
END:VEVENT
BEGIN:VEVENT
DTSTART;TZID=America/Halifax:20241216T180000
DTEND;TZID=America/Halifax:20241216T200000
DTSTAMP:20260424T225735
CREATED:20241103T213658Z
LAST-MODIFIED:20241216T151610Z
UID:10000039-1734372000-1734379200@keeleyrmosley.com
SUMMARY:Mandarin High vs Englewood (A)
DESCRIPTION:
URL:https://keeleyrmosley.com/event/mandarin-high-vs-englewood-a/
LOCATION:Englewood High School\, 4412 Barnes Rd S\, Jacksonville\, FL\, 32207\, United States
END:VEVENT
BEGIN:VEVENT
DTSTART;TZID=America/Halifax:20241212T183000
DTEND;TZID=America/Halifax:20241212T200000
DTSTAMP:20260424T225735
CREATED:20241013T225642Z
LAST-MODIFIED:20241212T022112Z
UID:10000028-1734028200-1734033600@keeleyrmosley.com
SUMMARY:Mandarin High vs Atlantic Coast (A)
DESCRIPTION:
URL:https://keeleyrmosley.com/event/mandarin-high-vs-atlantic-coast-a/
LOCATION:Atlantic Coast High School\, 9735 R G Skinner Pkwy\, Jacksonville\, FL\, 32256\, United States
END:VEVENT
BEGIN:VEVENT
DTSTART;TZID=America/Halifax:20241210T180000
DTEND;TZID=America/Halifax:20241210T200000
DTSTAMP:20260424T225735
CREATED:20241013T224839Z
LAST-MODIFIED:20241209T192534Z
UID:10000027-1733853600-1733860800@keeleyrmosley.com
SUMMARY:Mandarin High vs Bishop John Snyder (A)
DESCRIPTION:
URL:https://keeleyrmosley.com/event/bishop-john-snyder-high-school-a/
LOCATION:Bishop John Snyder High School\, 5001 Samaritan Way\, Jacksonville\, FL\, 32210\, United States
END:VEVENT
BEGIN:VEVENT
DTSTART;TZID=America/Halifax:20241209T190000
DTEND;TZID=America/Halifax:20241209T210000
DTSTAMP:20260424T225735
CREATED:20241013T153818Z
LAST-MODIFIED:20241103T211830Z
UID:10000026-1733770800-1733778000@keeleyrmosley.com
SUMMARY:Mandarin High vs Sandalwood (A)
DESCRIPTION:
URL:https://keeleyrmosley.com/event/mandarin-high-vs-sandalwood/
LOCATION:Sandalwood High School\, 2750 John Promenade Blvd\, Jacksonville\, FL\, 32246\, United States
END:VEVENT
BEGIN:VEVENT
DTSTART;TZID=America/Halifax:20241205T190000
DTEND;TZID=America/Halifax:20241205T210000
DTSTAMP:20260424T225735
CREATED:20241013T130523Z
LAST-MODIFIED:20241103T211343Z
UID:10000025-1733425200-1733432400@keeleyrmosley.com
SUMMARY:Mandarin High vs Fletcher (A)
DESCRIPTION:
URL:https://keeleyrmosley.com/event/mandarin-high-vs-fletcher-a/
LOCATION:Fletcher High School\, 700 Seagate Ave\, Neptune Beach\, FL\, 32266\, United States
END:VEVENT
BEGIN:VEVENT
DTSTART;TZID=America/Halifax:20241125T090000
DTEND;TZID=America/Halifax:20241127T210000
DTSTAMP:20260424T225735
CREATED:20241115T024911Z
LAST-MODIFIED:20241128T160629Z
UID:10000041-1732525200-1732741200@keeleyrmosley.com
SUMMARY:Thanksgiving Classic
DESCRIPTION:* Tuesday\, 11/26/2024\, 10:15 a.m. @ Bolles Bartram Campus (Court 1)\, Mandarin High (A) vs Lakeview Academy (GA) (H)\n* Wednesday\, 11/27/2024\, 10:15 a.m. @ Bolles (Court 2)\, Mandarin High (H) vs Boca Raton (A)
URL:https://keeleyrmosley.com/event/thanksgiving-classic/
LOCATION:The Bolles School\, 7400 San Jose Blvd\, Jacksonville\, FL\, 32217\, United States
END:VEVENT
BEGIN:VEVENT
DTSTART;TZID=America/Halifax:20241121T180000
DTEND;TZID=America/Halifax:20241121T200000
DTSTAMP:20260424T225735
CREATED:20241005T234452Z
LAST-MODIFIED:20241115T024627Z
UID:10000023-1732212000-1732219200@keeleyrmosley.com
SUMMARY:Mandarin High vs Wolfson (A)
DESCRIPTION:
URL:https://keeleyrmosley.com/event/mandarin-high-vs-wolfson-a/
LOCATION:Wolfson High School\, 7000 Powers Ave\, Jacksonville\, FL\, 32217\, United States
END:VEVENT
BEGIN:VEVENT
DTSTART;TZID=America/Halifax:20241113T163000
DTEND;TZID=America/Halifax:20241113T183000
DTSTAMP:20260424T225735
CREATED:20241103T205622Z
LAST-MODIFIED:20241105T014650Z
UID:10000037-1731515400-1731522600@keeleyrmosley.com
SUMMARY:Mandarin High vs Eagle’s View Academy (A) Pre-Season
DESCRIPTION:
URL:https://keeleyrmosley.com/event/mandarin-high-vs-bishop-snyder-a/
LOCATION:Bishop John Snyder High School\, 5001 Samaritan Way\, Jacksonville\, FL\, 32210\, United States
END:VEVENT
BEGIN:VEVENT
DTSTART;TZID=America/Halifax:20241006T090000
DTEND;TZID=America/Halifax:20241006T120000
DTSTAMP:20260424T225735
CREATED:20241001T204819Z
LAST-MODIFIED:20241001T204819Z
UID:10000011-1728205200-1728216000@keeleyrmosley.com
SUMMARY:Webber International University - Evaluation
DESCRIPTION:
URL:https://keeleyrmosley.com/event/webber-international-university-evaluation/
LOCATION:Webber International University\, 1201 N Scenic Hwy\, Babson Park\, FL\, 33827\, United States
END:VEVENT
BEGIN:VEVENT
DTSTART;VALUE=DATE:20240801
DTEND;VALUE=DATE:20240805
DTSTAMP:20260424T225735
CREATED:20240323T053255Z
LAST-MODIFIED:20240416T152411Z
UID:10000001-1722470400-1722815999@keeleyrmosley.com
SUMMARY:Phenom 150 National Camp
DESCRIPTION:AIM Sports Group
URL:https://keeleyrmosley.com/event/phenom-150-national-camp/
LOCATION:Phenom 150 National Camp\, Court Seal Beach\, CA\, United States
END:VEVENT
BEGIN:VEVENT
DTSTART;VALUE=DATE:20240720
DTEND;VALUE=DATE:20240723
DTSTAMP:20260424T225735
CREATED:20240416T145016Z
LAST-MODIFIED:20240416T145016Z
UID:10000009-1721433600-1721692799@keeleyrmosley.com
SUMMARY:Insider Exposure Summer Slam Tournament
DESCRIPTION:Atlanta\, GA
URL:https://keeleyrmosley.com/event/insider-exposure-summer-slam-tournament/
LOCATION:FL
END:VEVENT
BEGIN:VEVENT
DTSTART;VALUE=DATE:20240714
DTEND;VALUE=DATE:20240717
DTSTAMP:20260424T225735
CREATED:20240416T144905Z
LAST-MODIFIED:20240416T144905Z
UID:10000008-1720915200-1721174399@keeleyrmosley.com
SUMMARY:Run for Roses Championships
DESCRIPTION:Louisville\, KY
URL:https://keeleyrmosley.com/event/run-for-roses-championships/
LOCATION:FL
END:VEVENT
BEGIN:VEVENT
DTSTART;VALUE=DATE:20240531
DTEND;VALUE=DATE:20240603
DTSTAMP:20260424T225735
CREATED:20240416T144834Z
LAST-MODIFIED:20240416T144834Z
UID:10000007-1717113600-1717372799@keeleyrmosley.com
SUMMARY:NFHG Hoopfest Tournament
DESCRIPTION:Jacksonville\, FL
URL:https://keeleyrmosley.com/event/nfhg-hoopfest-tournament/
LOCATION:FL
END:VEVENT
BEGIN:VEVENT
DTSTART;VALUE=DATE:20240510
DTEND;VALUE=DATE:20240513
DTSTAMP:20260424T225735
CREATED:20240416T144749Z
LAST-MODIFIED:20240416T144749Z
UID:10000006-1715299200-1715558399@keeleyrmosley.com
SUMMARY:Candace Dupree Inv. ‘D2\, NAIA JUCO” Tournament
DESCRIPTION:Wesley Chapel\, FL
URL:https://keeleyrmosley.com/event/candace-dupree-inv-d2-naia-juco-tournament/
LOCATION:FL
END:VEVENT
BEGIN:VEVENT
DTSTART;VALUE=DATE:20240503
DTEND;VALUE=DATE:20240506
DTSTAMP:20260424T225735
CREATED:20240416T144707Z
LAST-MODIFIED:20240416T144707Z
UID:10000005-1714694400-1714953599@keeleyrmosley.com
SUMMARY:Insider Exposure Florida Brawl Tournament
DESCRIPTION:Gainesville\, FL
URL:https://keeleyrmosley.com/event/insider-exposure-florida-brawl-tournament/
LOCATION:FL
END:VEVENT
BEGIN:VEVENT
DTSTART;VALUE=DATE:20240419
DTEND;VALUE=DATE:20240422
DTSTAMP:20260424T225735
CREATED:20240416T144634Z
LAST-MODIFIED:20240416T144634Z
UID:10000004-1713484800-1713743999@keeleyrmosley.com
SUMMARY:Apache Memorial “NCAA Live” Tournament
DESCRIPTION:Knoxville\, TN
URL:https://keeleyrmosley.com/event/apache-memorial-ncaa-live-tournament/
LOCATION:FL
END:VEVENT
BEGIN:VEVENT
DTSTART;VALUE=DATE:20240413
DTEND;VALUE=DATE:20240415
DTSTAMP:20260424T225735
CREATED:20240416T144604Z
LAST-MODIFIED:20240416T144604Z
UID:10000003-1712966400-1713139199@keeleyrmosley.com
SUMMARY:Southern Jam Showcase Tournament
DESCRIPTION:Wesley Chapel\, FL
URL:https://keeleyrmosley.com/event/southern-jam-showcase-tournament/
LOCATION:FL
END:VEVENT
BEGIN:VEVENT
DTSTART;VALUE=DATE:20240330
DTEND;VALUE=DATE:20240401
DTSTAMP:20260424T225735
CREATED:20240416T144409Z
LAST-MODIFIED:20240416T144503Z
UID:10000002-1711756800-1711929599@keeleyrmosley.com
SUMMARY:Insider Exposure Tip Off Tournament
DESCRIPTION:Gainesville\, FL
URL:https://keeleyrmosley.com/event/insider-exposure-tip-off-tournament/
LOCATION:FL
END:VEVENT
END:VCALENDAR