BEGIN:VCALENDAR
VERSION:2.0
PRODID:-//Keeley Mosley - ECPv6.15.20//NONSGML v1.0//EN
CALSCALE:GREGORIAN
METHOD:PUBLISH
X-ORIGINAL-URL:https://keeleyrmosley.com
X-WR-CALDESC:Events for Keeley Mosley
REFRESH-INTERVAL;VALUE=DURATION:PT1H
X-Robots-Tag:noindex
X-PUBLISHED-TTL:PT1H
BEGIN:VTIMEZONE
TZID:America/Halifax
BEGIN:DAYLIGHT
TZOFFSETFROM:-0400
TZOFFSETTO:-0300
TZNAME:ADT
DTSTART:20250309T060000
END:DAYLIGHT
BEGIN:STANDARD
TZOFFSETFROM:-0300
TZOFFSETTO:-0400
TZNAME:AST
DTSTART:20251102T050000
END:STANDARD
BEGIN:DAYLIGHT
TZOFFSETFROM:-0400
TZOFFSETTO:-0300
TZNAME:ADT
DTSTART:20260308T060000
END:DAYLIGHT
BEGIN:STANDARD
TZOFFSETFROM:-0300
TZOFFSETTO:-0400
TZNAME:AST
DTSTART:20261101T050000
END:STANDARD
BEGIN:DAYLIGHT
TZOFFSETFROM:-0400
TZOFFSETTO:-0300
TZNAME:ADT
DTSTART:20270314T060000
END:DAYLIGHT
BEGIN:STANDARD
TZOFFSETFROM:-0300
TZOFFSETTO:-0400
TZNAME:AST
DTSTART:20271107T050000
END:STANDARD
END:VTIMEZONE
BEGIN:VEVENT
DTSTART;TZID=America/Halifax:20260103T080000
DTEND;TZID=America/Halifax:20260104T200000
DTSTAMP:20260424T173021
CREATED:20251114T220757Z
LAST-MODIFIED:20260103T132612Z
UID:10000071-1767427200-1767556800@keeleyrmosley.com
SUMMARY:The St. James She Got Game Classic
DESCRIPTION:Saturday\, 01/03/2026\, 11:30 a.m. Bishop Kenny (A) vs Greater Atlanta Christian (H)\, Court 1\nSunday\, 01/04/2026\, 10:30 a.m. Bishop Kenny (H) vs Digital Pioneers Academy (A)\, Court 1\nStreaming: BallerTV; https://www.ballertv.com/events/she-got-game-atlanta-2026\nTickets: https://www.eventbrite.com/e/she-got-game-classic-atlanta-ga-tickets-1844122593319?aff=ebdssbdestsearch
URL:https://keeleyrmosley.com/event/she-got-game-classic/
LOCATION:LakePoint Sports\, 261 Stars Way\, Emerson\, GA\, 30121\, United States
END:VEVENT
BEGIN:VEVENT
DTSTART;TZID=America/Halifax:20260109T180000
DTEND;TZID=America/Halifax:20260109T190000
DTSTAMP:20260424T173021
CREATED:20251114T221325Z
LAST-MODIFIED:20260118T170922Z
UID:10000072-1767981600-1767985200@keeleyrmosley.com
SUMMARY:Bishop Kenny (A) vs Oakleaf (H)
DESCRIPTION:Streaming: https://www.nfhsnetwork.com/events/oakleaf-hs-orange-park-fl/gam705571a8c3\nTickets: https://gofan.co/app/school/FL17917
URL:https://keeleyrmosley.com/event/bishop-kenny-a-vs-oakleaf-h/
LOCATION:Oakleaf High School\, 4035 Plantation Oaks Boulevard\, Orange Park\, FL\, 32065\, United States
END:VEVENT
BEGIN:VEVENT
DTSTART;TZID=America/Halifax:20260110T163000
DTEND;TZID=America/Halifax:20260110T173000
DTSTAMP:20260424T173021
CREATED:20251229T192523Z
LAST-MODIFIED:20260108T113525Z
UID:10000079-1768062600-1768066200@keeleyrmosley.com
SUMMARY:Think Pink Classic
DESCRIPTION:Bishop Kenny (A) vs Ocoee High School (H)
URL:https://keeleyrmosley.com/event/bishop-kenny-a-vs-ocoee-high-school-h/
LOCATION:Lake Highland Preparatory School\, 901 Highland Avenue\, Orlando\, FL\, 32803\, United States
END:VEVENT
BEGIN:VEVENT
DTSTART;TZID=America/Halifax:20260112T180000
DTEND;TZID=America/Halifax:20260112T190000
DTSTAMP:20260424T173021
CREATED:20251114T230629Z
LAST-MODIFIED:20260106T231007Z
UID:10000073-1768240800-1768244400@keeleyrmosley.com
SUMMARY:Bishop Kenny (H) vs Ridgeview (A)
DESCRIPTION:
URL:https://keeleyrmosley.com/event/bishop-kenny-h-vs-ridgeview-a/
LOCATION:Bishop Kenny High School\, 1055 Kingman Ave.\, Jacksonville\, FL\, 32207\, United States
END:VEVENT
BEGIN:VEVENT
DTSTART;TZID=America/Halifax:20260115T193000
DTEND;TZID=America/Halifax:20260115T203000
DTSTAMP:20260424T173021
CREATED:20251114T231119Z
LAST-MODIFIED:20260114T164238Z
UID:10000074-1768505400-1768509000@keeleyrmosley.com
SUMMARY:Bishop Kenny (H) vs Tocoi Creek (A)
DESCRIPTION:Streaming: https://www.nfhsnetwork.com/events/tocoi-creek-high-school-st-augustine-fl/gam0aabb9021d\nTickets: https://gofan.co/app/school/FL17917
URL:https://keeleyrmosley.com/event/bishop-kenny-a-vs-tocoi-creek-h/
LOCATION:Tocoi Creek High School\, 11200 St. Johns Parkway\, St. Augustine\, FL\, 32092\, United States
END:VEVENT
BEGIN:VEVENT
DTSTART;TZID=America/Halifax:20260117T080000
DTEND;TZID=America/Halifax:20260119T200000
DTSTAMP:20260424T173021
CREATED:20251116T202431Z
LAST-MODIFIED:20260202T213819Z
UID:10000075-1768636800-1768852800@keeleyrmosley.com
SUMMARY:Bishop Verot Shootout
DESCRIPTION:Saturday\, 01/17/2026\, 02:30 p.m. Bishop Kenny (H) vs Lincoln Park Academy (A)\nMonday\, 01/19/2026\, 12:00 p.m. Bishop Kenny (A) vs Francis Howell North (Missouri) (H)\nTickets: https://gofan.co/event/5753276?schoolid+FL17917\nStreaming: https://www.verotathletics.org/verot-sports-network
URL:https://keeleyrmosley.com/event/bishop-verot-shootout/
LOCATION:Bishop Verot Catholic High School\, 5598 Sunrise Dr.\, Ft. Myers\, FL\, 33919\, United States
END:VEVENT
BEGIN:VEVENT
DTSTART;TZID=America/Halifax:20260122T190000
DTEND;TZID=America/Halifax:20260122T200000
DTSTAMP:20260424T173021
CREATED:20251116T203034Z
LAST-MODIFIED:20260108T114550Z
UID:10000076-1769108400-1769112000@keeleyrmosley.com
SUMMARY:Bishop Kenny (A) vs Bolles (H)
DESCRIPTION:
URL:https://keeleyrmosley.com/event/bishop-kenny-a-vs-bolles-h/
LOCATION:Bolles\, 7400 San Jose Boulevard\, Jacksonville\, FL\, 32217\, United States
END:VEVENT
BEGIN:VEVENT
DTSTART;TZID=America/Halifax:20260124T080000
DTEND;TZID=America/Halifax:20260124T200000
DTSTAMP:20260424T173021
CREATED:20251229T211707Z
LAST-MODIFIED:20260126T193910Z
UID:10000080-1769241600-1769284800@keeleyrmosley.com
SUMMARY:Florida Prospects LeDawn Classic
DESCRIPTION:Saturday\, 01/24/2026\, 06:00 p.m. Bishop Kenny (A) vs Winter Haven (H)
URL:https://keeleyrmosley.com/event/florida-prospects-ledawn-classic/
LOCATION:Winter Haven High School\, 600 6th Street SE\, Winter Haven\, FL\, 33880\, United States
END:VEVENT
BEGIN:VEVENT
DTSTART;TZID=America/Halifax:20260127T180000
DTEND;TZID=America/Halifax:20260127T190000
DTSTAMP:20260424T173021
CREATED:20251116T203820Z
LAST-MODIFIED:20260127T160014Z
UID:10000077-1769536800-1769540400@keeleyrmosley.com
SUMMARY:Bishop Kenny (A) vs Orange Park High School (H)
DESCRIPTION:Tickets: https://gofan.co/event/4759992?schoolid+FL17917\nStreaming: https://www.nfhsnetwork.com/events/orange-park-hs-orange-park-fl/gam9628c182bd
URL:https://keeleyrmosley.com/event/bishop-kenny-a-vs-orange-park-high-school-h/
LOCATION:Orange Park High School\, 2300 Kingsley Avenue\, Orange Park\, FL\, 32073\, United States
END:VEVENT
BEGIN:VEVENT
DTSTART;TZID=America/Halifax:20260129T190000
DTEND;TZID=America/Halifax:20260129T200000
DTSTAMP:20260424T173021
CREATED:20251116T204141Z
LAST-MODIFIED:20260123T172415Z
UID:10000078-1769713200-1769716800@keeleyrmosley.com
SUMMARY:Bishop Kenny (H) vs Creekside (A)
DESCRIPTION:
URL:https://keeleyrmosley.com/event/bishop-kenny-h-vs-creekside-a/
LOCATION:Bishop Kenny High School\, 1055 Kingman Ave.\, Jacksonville\, FL\, 32207\, United States
END:VEVENT
END:VCALENDAR