BEGIN:VCALENDAR
VERSION:2.0
PRODID:-//Keeley Mosley - ECPv6.15.20//NONSGML v1.0//EN
CALSCALE:GREGORIAN
METHOD:PUBLISH
X-ORIGINAL-URL:https://keeleyrmosley.com
X-WR-CALDESC:Events for Keeley Mosley
REFRESH-INTERVAL;VALUE=DURATION:PT1H
X-Robots-Tag:noindex
X-PUBLISHED-TTL:PT1H
BEGIN:VTIMEZONE
TZID:America/Halifax
BEGIN:DAYLIGHT
TZOFFSETFROM:-0400
TZOFFSETTO:-0300
TZNAME:ADT
DTSTART:20250309T060000
END:DAYLIGHT
BEGIN:STANDARD
TZOFFSETFROM:-0300
TZOFFSETTO:-0400
TZNAME:AST
DTSTART:20251102T050000
END:STANDARD
BEGIN:DAYLIGHT
TZOFFSETFROM:-0400
TZOFFSETTO:-0300
TZNAME:ADT
DTSTART:20260308T060000
END:DAYLIGHT
BEGIN:STANDARD
TZOFFSETFROM:-0300
TZOFFSETTO:-0400
TZNAME:AST
DTSTART:20261101T050000
END:STANDARD
BEGIN:DAYLIGHT
TZOFFSETFROM:-0400
TZOFFSETTO:-0300
TZNAME:ADT
DTSTART:20270314T060000
END:DAYLIGHT
BEGIN:STANDARD
TZOFFSETFROM:-0300
TZOFFSETTO:-0400
TZNAME:AST
DTSTART:20271107T050000
END:STANDARD
END:VTIMEZONE
BEGIN:VEVENT
DTSTART;TZID=America/Halifax:20260515T080000
DTEND;TZID=America/Halifax:20260517T200000
DTSTAMP:20260424T144019
CREATED:20260324T152357Z
LAST-MODIFIED:20260324T153132Z
UID:10000087-1778832000-1779048000@keeleyrmosley.com
SUMMARY:Live! At LakePoint
DESCRIPTION:🗓️🕰️ Friday\, 05/15/2026\, TBD a.m. Central Florida Elite 3SSB 16U (H) vs TBD (A) @ Court TBD\n🗓️🕰️
URL:https://keeleyrmosley.com/event/live-at-lakepoint/
LOCATION:LakePoint Sports\, 261 Stars Way\, Emerson\, GA\, 30121\, United States
ORGANIZER;CN="Select Events Basketball":MAILTO:mailto:questions@selecteventsbasketball.com
END:VEVENT
BEGIN:VEVENT
DTSTART;TZID=America/Halifax:20260522T080000
DTEND;TZID=America/Halifax:20260524T200000
DTSTAMP:20260424T144019
CREATED:20260324T153829Z
LAST-MODIFIED:20260324T161536Z
UID:10000088-1779436800-1779652800@keeleyrmosley.com
SUMMARY:Brawl At The Palms
DESCRIPTION:🗓️🕰️ Friday\, 05/22/2026\, TBD a.m. Central Florida Elite 3SSB 16U (H) vs TBD (A) @ Court TBD\n🗓️🕰️\n🎥 https://ww.baller.tv/events/brawl-at-the-palms
URL:https://keeleyrmosley.com/event/brawl-at-the-palms/
LOCATION:Wellington Sports Academy\, 3400 120th Ave.\, Wellington\, FL\, 33414\, United States
END:VEVENT
END:VCALENDAR