BEGIN:VCALENDAR
VERSION:2.0
PRODID:-//Keeley Mosley - ECPv6.15.20//NONSGML v1.0//EN
CALSCALE:GREGORIAN
METHOD:PUBLISH
X-WR-CALNAME:Keeley Mosley
X-ORIGINAL-URL:https://keeleyrmosley.com
X-WR-CALDESC:Events for Keeley Mosley
REFRESH-INTERVAL;VALUE=DURATION:PT1H
X-Robots-Tag:noindex
X-PUBLISHED-TTL:PT1H
BEGIN:VTIMEZONE
TZID:America/Halifax
BEGIN:DAYLIGHT
TZOFFSETFROM:-0400
TZOFFSETTO:-0300
TZNAME:ADT
DTSTART:20250309T060000
END:DAYLIGHT
BEGIN:STANDARD
TZOFFSETFROM:-0300
TZOFFSETTO:-0400
TZNAME:AST
DTSTART:20251102T050000
END:STANDARD
BEGIN:DAYLIGHT
TZOFFSETFROM:-0400
TZOFFSETTO:-0300
TZNAME:ADT
DTSTART:20260308T060000
END:DAYLIGHT
BEGIN:STANDARD
TZOFFSETFROM:-0300
TZOFFSETTO:-0400
TZNAME:AST
DTSTART:20261101T050000
END:STANDARD
BEGIN:DAYLIGHT
TZOFFSETFROM:-0400
TZOFFSETTO:-0300
TZNAME:ADT
DTSTART:20270314T060000
END:DAYLIGHT
BEGIN:STANDARD
TZOFFSETFROM:-0300
TZOFFSETTO:-0400
TZNAME:AST
DTSTART:20271107T050000
END:STANDARD
END:VTIMEZONE
BEGIN:VEVENT
DTSTART;TZID=America/Halifax:20260612T080000
DTEND;TZID=America/Halifax:20260613T200000
DTSTAMP:20260424T161323
CREATED:20260325T204824Z
LAST-MODIFIED:20260325T204824Z
UID:10000092-1781251200-1781380800@keeleyrmosley.com
SUMMARY:University of North Florida Team Camp 2026
DESCRIPTION:Friday\, 06/12/2026\, TBD p.m. Bishop Kenny (H) vs TBD (A) @ Court TBD\nSaturday\, 06/13/2026\, TBD a.m. Bishop Kenny (A) vs TBD (H) @ Court TBD\nSaturday\, 06/13/2026\, TBD p.m. Bishop Kenny (H) vs TBD (A) @ Court TBD
URL:https://keeleyrmosley.com/event/university-of-north-florida-team-camp-2026/
LOCATION:University of North Florida Arena\, 1 UNF Drive\, Jackonville\, FL\, 32224\, United States
END:VEVENT
END:VCALENDAR